BEGIN:VCALENDAR
VERSION:2.0
PRODID:-//Cos de Portants de Sant Vicenç dels Horts - ECPv6.15.17.1//NONSGML v1.0//EN
CALSCALE:GREGORIAN
METHOD:PUBLISH
X-WR-CALNAME:Cos de Portants de Sant Vicenç dels Horts
X-ORIGINAL-URL:https://setmanasanta.cat
X-WR-CALDESC:Esdeveniments per Cos de Portants de Sant Vicenç dels Horts
REFRESH-INTERVAL;VALUE=DURATION:PT1H
X-Robots-Tag:noindex
X-PUBLISHED-TTL:PT1H
BEGIN:VTIMEZONE
TZID:UTC
BEGIN:STANDARD
TZOFFSETFROM:+0000
TZOFFSETTO:+0000
TZNAME:UTC
DTSTART:20220101T000000
END:STANDARD
END:VTIMEZONE
BEGIN:VEVENT
DTSTART;TZID=UTC:20230319T110000
DTEND;TZID=UTC:20230402T123000
DTSTAMP:20260422T080309
CREATED:20230316T163957Z
LAST-MODIFIED:20230316T170241Z
UID:2629-1679223600-1680438600@setmanasanta.cat
SUMMARY:Inscripcions per participar a la Processó
DESCRIPTION:
URL:https://setmanasanta.cat/esdeveniment/inscripcions-per-participar-a-la-processo/
LOCATION:Plaça Sant Jordi\, 6 (Despatx Parroquial – Església)\, Plaça Sant Jordi\, 6\, Sant Vicenç dels Horts\, Barcelona\, 08620
END:VEVENT
BEGIN:VEVENT
DTSTART;TZID=UTC:20230401T180000
DTEND;TZID=UTC:20230408T170000
DTSTAMP:20260422T080309
CREATED:20230327T152021Z
LAST-MODIFIED:20230327T152127Z
UID:2637-1680372000-1680973200@setmanasanta.cat
SUMMARY:Exposició SETMANA SANTA HISTÒRICA
DESCRIPTION:A la sala dels Fundadors de l’Ateneu Familiar podreu conèixer la història de la nostra Setmana Santa.  \n\n\n\nSala Fundadors de l’Ateneu FamiliarInauguració: Dissabte 1 d’abril\, a les 12 hHorari: Dissabte 1 d’abril\, de 18 a 20 hDiumenge 2 d’abril\, de 12 a 14 hDe dilluns a Dijous Sant de 18 a 20 hDivendres Sant de 12 a 14 h i de 18 a 20 hDissabte 8 de 12 a 14 h i de 18 a 20 h
URL:https://setmanasanta.cat/esdeveniment/exposicio-setmana-santa-historica/
END:VEVENT
END:VCALENDAR