BEGIN:VCALENDAR
VERSION:2.0
PRODID:-//Cos de Portants de Sant Vicenç dels Horts - ECPv6.15.17.1//NONSGML v1.0//EN
CALSCALE:GREGORIAN
METHOD:PUBLISH
X-WR-CALNAME:Cos de Portants de Sant Vicenç dels Horts
X-ORIGINAL-URL:https://setmanasanta.cat
X-WR-CALDESC:Esdeveniments per Cos de Portants de Sant Vicenç dels Horts
REFRESH-INTERVAL;VALUE=DURATION:PT1H
X-Robots-Tag:noindex
X-PUBLISHED-TTL:PT1H
BEGIN:VTIMEZONE
TZID:UTC
BEGIN:STANDARD
TZOFFSETFROM:+0000
TZOFFSETTO:+0000
TZNAME:UTC
DTSTART:20240101T000000
END:STANDARD
END:VTIMEZONE
BEGIN:VEVENT
DTSTART;TZID=UTC:20250415T210000
DTEND;TZID=UTC:20250415T220000
DTSTAMP:20260422T171127
CREATED:20250308T112738Z
LAST-MODIFIED:20250308T112826Z
UID:2689-1744750800-1744754400@setmanasanta.cat
SUMMARY:Desfilada dels Armats i Vestals
DESCRIPTION:Desfilada d’armats del Cos de Portants pels principals carrers de la vila Itinerari: c. del Riu\, c. de Barcelona\, c. d’Àngel Guimerá\, c. de Mn. Jacint Verdaguer\, pl. de la Vila\, c. Mn. Josep Duran\, c. de Nadal i arribadaa l’Església de Sant Vicenç Màrtir
URL:https://setmanasanta.cat/esdeveniment/desfilada-dels-armats-i-vestals/
END:VEVENT
BEGIN:VEVENT
DTSTART;TZID=UTC:20250415T220000
DTEND;TZID=UTC:20250415T231500
DTSTAMP:20260422T171127
CREATED:20250308T112321Z
LAST-MODIFIED:20250308T113807Z
UID:2687-1744754400-1744758900@setmanasanta.cat
SUMMARY:Auto sacramental
DESCRIPTION:L’Auto Sacramental de Sant Vicenç dels Horts és una joia única. Una manifestació teatral popular que representa la Passió de Jesucrist\, revivint els darrers dies de la vida de Jesús a través de tretze escenes acompanyades pels salms cantats pels mateixos actors i amb música en directe. \n\n\n\nMúsica: Antoni Casasampere i Ferrés (1 de gener de 1922 – 17 d‘octubre de 2012) \n\n\n\nSalms: Narcís Lunes i Boloix (15 de gener de 1917 – 19 de setembre de 1987) \n\n\n\nMalgrat no conèixer la data exacta del seu inici\, tenim la convicció que ens hi acostem força. Es proposen dues dates: l’any 1564 i l’any 1587. De fet\, els auto sacramentals apareixen al segle XVI. Es té per cert que el 1793 s’adopta la forma literària de fra Antoni de Sant Jeroni\, monjo de l’ordre dels Trinitaris Descalços de Barcelona. \n\n\n\n+ Informació: Història de l’Auto sacramental
URL:https://setmanasanta.cat/esdeveniment/auto-sacramental-7/
END:VEVENT
END:VCALENDAR