BEGIN:VCALENDAR
VERSION:2.0
PRODID:-//Cos de Portants de Sant Vicenç dels Horts - ECPv6.15.17.1//NONSGML v1.0//EN
CALSCALE:GREGORIAN
METHOD:PUBLISH
X-WR-CALNAME:Cos de Portants de Sant Vicenç dels Horts
X-ORIGINAL-URL:https://setmanasanta.cat
X-WR-CALDESC:Esdeveniments per Cos de Portants de Sant Vicenç dels Horts
REFRESH-INTERVAL;VALUE=DURATION:PT1H
X-Robots-Tag:noindex
X-PUBLISHED-TTL:PT1H
BEGIN:VTIMEZONE
TZID:UTC
BEGIN:STANDARD
TZOFFSETFROM:+0000
TZOFFSETTO:+0000
TZNAME:UTC
DTSTART:20240101T000000
END:STANDARD
END:VTIMEZONE
BEGIN:VEVENT
DTSTART;TZID=UTC:20250415T210000
DTEND;TZID=UTC:20250415T220000
DTSTAMP:20260422T221245
CREATED:20250308T112738Z
LAST-MODIFIED:20250308T112826Z
UID:2689-1744750800-1744754400@setmanasanta.cat
SUMMARY:Desfilada dels Armats i Vestals
DESCRIPTION:Desfilada d’armats del Cos de Portants pels principals carrers de la vila Itinerari: c. del Riu\, c. de Barcelona\, c. d’Àngel Guimerá\, c. de Mn. Jacint Verdaguer\, pl. de la Vila\, c. Mn. Josep Duran\, c. de Nadal i arribadaa l’Església de Sant Vicenç Màrtir
URL:https://setmanasanta.cat/esdeveniment/desfilada-dels-armats-i-vestals/
END:VEVENT
BEGIN:VEVENT
DTSTART;TZID=UTC:20250415T220000
DTEND;TZID=UTC:20250415T231500
DTSTAMP:20260422T221245
CREATED:20250308T112321Z
LAST-MODIFIED:20250308T113807Z
UID:2687-1744754400-1744758900@setmanasanta.cat
SUMMARY:Auto sacramental
DESCRIPTION:L’Auto Sacramental de Sant Vicenç dels Horts és una joia única. Una manifestació teatral popular que representa la Passió de Jesucrist\, revivint els darrers dies de la vida de Jesús a través de tretze escenes acompanyades pels salms cantats pels mateixos actors i amb música en directe. \n\n\n\nMúsica: Antoni Casasampere i Ferrés (1 de gener de 1922 – 17 d‘octubre de 2012) \n\n\n\nSalms: Narcís Lunes i Boloix (15 de gener de 1917 – 19 de setembre de 1987) \n\n\n\nMalgrat no conèixer la data exacta del seu inici\, tenim la convicció que ens hi acostem força. Es proposen dues dates: l’any 1564 i l’any 1587. De fet\, els auto sacramentals apareixen al segle XVI. Es té per cert que el 1793 s’adopta la forma literària de fra Antoni de Sant Jeroni\, monjo de l’ordre dels Trinitaris Descalços de Barcelona. \n\n\n\n+ Informació: Història de l’Auto sacramental
URL:https://setmanasanta.cat/esdeveniment/auto-sacramental-7/
END:VEVENT
BEGIN:VEVENT
DTSTART;TZID=UTC:20250418T080000
DTEND;TZID=UTC:20250418T100000
DTSTAMP:20260422T221245
CREATED:20250308T113000Z
LAST-MODIFIED:20250308T113025Z
UID:2692-1744963200-1744970400@setmanasanta.cat
SUMMARY:Via crucis
DESCRIPTION:Sortida de l’església de St Vicenç Màrtir. (Pl. St. Jordi\, 6)
URL:https://setmanasanta.cat/esdeveniment/via-crucis-3/
END:VEVENT
BEGIN:VEVENT
DTSTART;TZID=UTC:20250418T173000
DTEND;TZID=UTC:20250418T190000
DTSTAMP:20260422T221245
CREATED:20250308T113539Z
LAST-MODIFIED:20250308T113751Z
UID:2697-1744997400-1745002800@setmanasanta.cat
SUMMARY:Auto sacramental
DESCRIPTION:L’Auto Sacramental de Sant Vicenç dels Horts és una joia única. Una manifestació teatral popular que representa la Passió de Jesucrist\, revivint els darrers dies de la vida de Jesús a través de tretze escenes acompanyades pels salms cantats pels mateixos actors i amb música en directe. \n\n\n\nMúsica: Antoni Casasampere i Ferrés (1 de gener de 1922 – 17 d‘octubre de 2012) \n\n\n\nSalms: Narcís Lunes i Boloix (15 de gener de 1917 – 19 de setembre de 1987) \n\n\n\nMalgrat no conèixer la data exacta del seu inici\, tenim la convicció que ens hi acostem força. Es proposen dues dates: l’any 1564 i l’any 1587. De fet\, els auto sacramentals apareixen al segle XVI. Es té per cert que el 1793 s’adopta la forma literària de fra Antoni de Sant Jeroni\, monjo de l’ordre dels Trinitaris Descalços de Barcelona. \n\n\n\n+ Informació: Història de l’Auto sacramental
URL:https://setmanasanta.cat/esdeveniment/auto-sacramental-8/
END:VEVENT
BEGIN:VEVENT
DTSTART;TZID=UTC:20250418T173000
DTEND;TZID=UTC:20250418T190000
DTSTAMP:20260422T221245
CREATED:20250308T114253Z
LAST-MODIFIED:20250308T114424Z
UID:2705-1744997400-1745002800@setmanasanta.cat
SUMMARY:Desfilada dels Armats i Vestals
DESCRIPTION:Davant de l’Ajuntament es farà una breu exhibició i l’arenga del Centurió  \n\n\n\nItinerari: sortida del Casal Parroquial\, c. de Ribot\, c. del Riu\, c. de Sant Josep \, c. de Miquel Hernández\, c. de Rafael Casanova\, pl. de la Vila (aturada\, exhibició i l’arenga del Centurió)\, c de Sant Joan Bosco\, c. deSant Miquel\, c. de Ribot\, c. de Rafael Casanova i arribada a la Societat Cultural La Vicentina.
URL:https://setmanasanta.cat/esdeveniment/desfilada-dels-armats-i-vestals-2/
END:VEVENT
BEGIN:VEVENT
DTSTART;TZID=UTC:20250418T190000
DTEND;TZID=UTC:20250418T201500
DTSTAMP:20260422T221245
CREATED:20250308T113704Z
LAST-MODIFIED:20250308T113704Z
UID:2699-1745002800-1745007300@setmanasanta.cat
SUMMARY:Auto sacramental
DESCRIPTION:L’Auto Sacramental de Sant Vicenç dels Horts és una joia única. Una manifestació teatral popular que representa la Passió de Jesucrist\, revivint els darrers dies de la vida de Jesús a través de tretze escenes acompanyades pels salms cantats pels mateixos actors i amb música en directe. \n\n\n\nMúsica: Antoni Casasampere i Ferrés (1 de gener de 1922 – 17 d‘octubre de 2012) \n\n\n\nSalms: Narcís Lunes i Boloix (15 de gener de 1917 – 19 de setembre de 1987) \n\n\n\nMalgrat no conèixer la data exacta del seu inici\, tenim la convicció que ens hi acostem força. Es proposen dues dates: l’any 1564 i l’any 1587. De fet\, els auto sacramentals apareixen al segle XVI. Es té per cert que el 1793 s’adopta la forma literària de fra Antoni de Sant Jeroni\, monjo de l’ordre dels Trinitaris Descalços de Barcelona. \n\n\n\n+ Informació: Història de l’Auto sacramental
URL:https://setmanasanta.cat/esdeveniment/auto-sacramental-9/
END:VEVENT
BEGIN:VEVENT
DTSTART;TZID=UTC:20250418T193000
DTEND;TZID=UTC:20250418T200000
DTSTAMP:20260422T221245
CREATED:20250308T113241Z
LAST-MODIFIED:20250308T113444Z
UID:2694-1745004600-1745006400@setmanasanta.cat
SUMMARY:Concert de bandes musicals
DESCRIPTION:Les tres bandes que participen a la processó oferiran un petit concert. Enguany ens acompanyes l’Agrupació musical del Godall\, l’Associació musical Pau Casals i la Banda de St Vicenç.
URL:https://setmanasanta.cat/esdeveniment/concert-de-bandes-musicals/
END:VEVENT
BEGIN:VEVENT
DTSTART;TZID=UTC:20250418T210000
DTEND;TZID=UTC:20250418T230000
DTSTAMP:20260422T221245
CREATED:20250308T114119Z
LAST-MODIFIED:20250308T114122Z
UID:2703-1745010000-1745017200@setmanasanta.cat
SUMMARY:Processó del Silenci
DESCRIPTION:No se sap amb exactitud l’any que va començar la processó de Sant Vicenç\, però se suposa que va ser pels volts del 1587 i que va sorgir arrel de l’acte de l’Auto Sacramental. Però els nostres avantpassats no en van tenir prou amb aquest i un bon dia van decidir d’allargar el drama de la passió de Crist\, organitzant la processó. A poc a poc van anar comprant els misteris. \n\n\n\nLa Processó que organitza el Cos de Portants del Sant Crist és una representació dels darrers dies de vida de Jesús. A través de diferents personatges i passos fem un recorregut dels darrers instants viscuts per Jesús de Natzaret.  \n\n\n\n \n\n\n\nSortida de l’Església de Sant Vicenç MàrtirItinerari: pl. de Catalunya\, c. de Barcelona\, c. del Dr. Robert\, c. de Mn.Jacint Verdaguer\, pl. de la Vila\, c. de Rafael Casanova\, c. de la Pobla\,c. Nou i pl. De Catalunya i arribada a l’Església de Sant Vicenç Màrtir
URL:https://setmanasanta.cat/esdeveniment/processo-del-silenci-3/
END:VEVENT
END:VCALENDAR