BEGIN:VCALENDAR
VERSION:2.0
PRODID:-//Cos de Portants de Sant Vicenç dels Horts - ECPv6.15.17.1//NONSGML v1.0//EN
CALSCALE:GREGORIAN
METHOD:PUBLISH
X-WR-CALNAME:Cos de Portants de Sant Vicenç dels Horts
X-ORIGINAL-URL:https://setmanasanta.cat
X-WR-CALDESC:Esdeveniments per Cos de Portants de Sant Vicenç dels Horts
REFRESH-INTERVAL;VALUE=DURATION:PT1H
X-Robots-Tag:noindex
X-PUBLISHED-TTL:PT1H
BEGIN:VTIMEZONE
TZID:UTC
BEGIN:STANDARD
TZOFFSETFROM:+0000
TZOFFSETTO:+0000
TZNAME:UTC
DTSTART:20210101T000000
END:STANDARD
END:VTIMEZONE
BEGIN:VTIMEZONE
TZID:Europe/Paris
BEGIN:DAYLIGHT
TZOFFSETFROM:+0100
TZOFFSETTO:+0200
TZNAME:CEST
DTSTART:20200329T010000
END:DAYLIGHT
BEGIN:STANDARD
TZOFFSETFROM:+0200
TZOFFSETTO:+0100
TZNAME:CET
DTSTART:20201025T010000
END:STANDARD
BEGIN:DAYLIGHT
TZOFFSETFROM:+0100
TZOFFSETTO:+0200
TZNAME:CEST
DTSTART:20210328T010000
END:DAYLIGHT
BEGIN:STANDARD
TZOFFSETFROM:+0200
TZOFFSETTO:+0100
TZNAME:CET
DTSTART:20211031T010000
END:STANDARD
BEGIN:DAYLIGHT
TZOFFSETFROM:+0100
TZOFFSETTO:+0200
TZNAME:CEST
DTSTART:20220327T010000
END:DAYLIGHT
BEGIN:STANDARD
TZOFFSETFROM:+0200
TZOFFSETTO:+0100
TZNAME:CET
DTSTART:20221030T010000
END:STANDARD
END:VTIMEZONE
BEGIN:VEVENT
DTSTART;TZID=UTC:20240329T163000
DTEND;TZID=UTC:20240329T190000
DTSTAMP:20260421T034231
CREATED:20240226T084639Z
LAST-MODIFIED:20240226T084639Z
UID:2666-1711729800-1711738800@setmanasanta.cat
SUMMARY:DESFILADA ARMATS I VESTALS
DESCRIPTION:
URL:https://setmanasanta.cat/esdeveniment/desfilada-armats-i-vestals-2/
END:VEVENT
BEGIN:VEVENT
DTSTART;TZID=UTC:20240329T080000
DTEND;TZID=UTC:20240329T100000
DTSTAMP:20260421T034231
CREATED:20240226T083857Z
LAST-MODIFIED:20240226T083858Z
UID:2660-1711699200-1711706400@setmanasanta.cat
SUMMARY:VIA CRUCIS
DESCRIPTION:
URL:https://setmanasanta.cat/esdeveniment/via-crucis-2/
END:VEVENT
BEGIN:VEVENT
DTSTART;TZID=UTC:20240326T220000
DTEND;TZID=UTC:20240326T233000
DTSTAMP:20260421T034231
CREATED:20240226T083325Z
LAST-MODIFIED:20240226T083512Z
UID:2652-1711490400-1711495800@setmanasanta.cat
SUMMARY:AUTO SACRAMENTAL
DESCRIPTION:
URL:https://setmanasanta.cat/esdeveniment/auto-sacramental-4/
END:VEVENT
BEGIN:VEVENT
DTSTART;TZID=UTC:20240326T210000
DTEND;TZID=UTC:20240326T220000
DTSTAMP:20260421T034231
CREATED:20240226T083754Z
LAST-MODIFIED:20240226T083755Z
UID:2658-1711486800-1711490400@setmanasanta.cat
SUMMARY:DESFILADA ARMATS I VESTALS
DESCRIPTION:
URL:https://setmanasanta.cat/esdeveniment/desfilada-armats-i-vestals/
END:VEVENT
BEGIN:VEVENT
DTSTART;TZID=UTC:20240303T090000
DTEND;TZID=UTC:20240303T140000
DTSTAMP:20260421T034231
CREATED:20240226T084511Z
LAST-MODIFIED:20240226T084511Z
UID:2664-1709456400-1709474400@setmanasanta.cat
SUMMARY:TROBADA MANAIES PAÏSOS CATALANS
DESCRIPTION:
URL:https://setmanasanta.cat/esdeveniment/trobada-manaies-paisos-catalans/
END:VEVENT
BEGIN:VEVENT
DTSTART;TZID=UTC:20230407T193000
DTEND;TZID=UTC:20230407T200000
DTSTAMP:20260421T034231
CREATED:20240329T193018Z
LAST-MODIFIED:20240226T083006Z
UID:2621-1680895800-1680897600@setmanasanta.cat
SUMMARY:Concert de Bandes de música
DESCRIPTION:Concert a càrrec de les tres bandes musicals que participen a la processó del silenci. Enguany son l’Associació musical Pau Casals de Mollet del Vallès\, l’Agrupació musical de Godall i la Banda de cornetes i tambors de Sant Vicenç dels Horts.
URL:https://setmanasanta.cat/esdeveniment/concert-de-bandes-de-musica/
LOCATION:Pl. de la Vila – Sant Vicenç dels Horts\, Plaça de la Vila\, Sant Vicenç dels Horts\, Espanya\, 08620
END:VEVENT
BEGIN:VEVENT
DTSTART;TZID=UTC:20230407T190000
DTEND;TZID=UTC:20230407T201500
DTSTAMP:20260421T034231
CREATED:20230316T160923Z
LAST-MODIFIED:20230316T164221Z
UID:2605-1680894000-1680898500@setmanasanta.cat
SUMMARY:Auto sacramental
DESCRIPTION:
URL:https://setmanasanta.cat/esdeveniment/auto-sacramental-3/
END:VEVENT
BEGIN:VEVENT
DTSTART;TZID=UTC:20230407T173000
DTEND;TZID=UTC:20230407T184500
DTSTAMP:20260421T034231
CREATED:20230316T160748Z
LAST-MODIFIED:20230316T164254Z
UID:2603-1680888600-1680893100@setmanasanta.cat
SUMMARY:Auto sacramental
DESCRIPTION:
URL:https://setmanasanta.cat/esdeveniment/auto-sacramental-2/
END:VEVENT
BEGIN:VEVENT
DTSTART;TZID=UTC:20230407T163000
DTEND;TZID=UTC:20230407T180000
DTSTAMP:20260421T034231
CREATED:20230316T162328Z
LAST-MODIFIED:20230316T164312Z
UID:2619-1680885000-1680890400@setmanasanta.cat
SUMMARY:Desfilada dels Armats de Sant Vicenç dels Horts
DESCRIPTION:
URL:https://setmanasanta.cat/esdeveniment/desfilada-dels-armats-de-sant-vicenc-dels-horts/
END:VEVENT
BEGIN:VEVENT
DTSTART;TZID=UTC:20230407T080000
DTEND;TZID=UTC:20230407T100000
DTSTAMP:20260421T034231
CREATED:20230316T162114Z
LAST-MODIFIED:20230316T164338Z
UID:2617-1680854400-1680861600@setmanasanta.cat
SUMMARY:Via Crucis
DESCRIPTION:
URL:https://setmanasanta.cat/esdeveniment/via-crucis/
END:VEVENT
BEGIN:VEVENT
DTSTART;TZID=UTC:20230404T220000
DTEND;TZID=UTC:20230404T231500
DTSTAMP:20260421T034231
CREATED:20230316T155728Z
LAST-MODIFIED:20230316T164457Z
UID:2600-1680645600-1680650100@setmanasanta.cat
SUMMARY:Auto sacramental
DESCRIPTION:
URL:https://setmanasanta.cat/esdeveniment/auto-sacramental/
END:VEVENT
BEGIN:VEVENT
DTSTART;TZID=UTC:20230404T210000
DTEND;TZID=UTC:20230404T220000
DTSTAMP:20260421T034231
CREATED:20230316T161927Z
LAST-MODIFIED:20230316T164645Z
UID:2615-1680642000-1680645600@setmanasanta.cat
SUMMARY:Desfilada dels Armats de Sant Vicenç
DESCRIPTION:
URL:https://setmanasanta.cat/esdeveniment/desfilada-dels-armats-de-sant-vicenc/
END:VEVENT
BEGIN:VEVENT
DTSTART;TZID=UTC:20230401T180000
DTEND;TZID=UTC:20230408T170000
DTSTAMP:20260421T034231
CREATED:20230327T152021Z
LAST-MODIFIED:20230327T152127Z
UID:2637-1680372000-1680973200@setmanasanta.cat
SUMMARY:Exposició SETMANA SANTA HISTÒRICA
DESCRIPTION:A la sala dels Fundadors de l’Ateneu Familiar podreu conèixer la història de la nostra Setmana Santa.  \n\n\n\nSala Fundadors de l’Ateneu FamiliarInauguració: Dissabte 1 d’abril\, a les 12 hHorari: Dissabte 1 d’abril\, de 18 a 20 hDiumenge 2 d’abril\, de 12 a 14 hDe dilluns a Dijous Sant de 18 a 20 hDivendres Sant de 12 a 14 h i de 18 a 20 hDissabte 8 de 12 a 14 h i de 18 a 20 h
URL:https://setmanasanta.cat/esdeveniment/exposicio-setmana-santa-historica/
END:VEVENT
BEGIN:VEVENT
DTSTART;TZID=UTC:20230329T210000
DTEND;TZID=UTC:20230329T230000
DTSTAMP:20260421T034231
CREATED:20230316T161338Z
LAST-MODIFIED:20240226T082750Z
UID:2608-1680123600-1680130800@setmanasanta.cat
SUMMARY:Processó del silenci
DESCRIPTION:
URL:https://setmanasanta.cat/esdeveniment/processo-del-silenci/
END:VEVENT
BEGIN:VEVENT
DTSTART;TZID=UTC:20230319T110000
DTEND;TZID=UTC:20230402T123000
DTSTAMP:20260421T034231
CREATED:20230316T163957Z
LAST-MODIFIED:20230316T170241Z
UID:2629-1679223600-1680438600@setmanasanta.cat
SUMMARY:Inscripcions per participar a la Processó
DESCRIPTION:
URL:https://setmanasanta.cat/esdeveniment/inscripcions-per-participar-a-la-processo/
LOCATION:Plaça Sant Jordi\, 6 (Despatx Parroquial – Església)\, Plaça Sant Jordi\, 6\, Sant Vicenç dels Horts\, Barcelona\, 08620
END:VEVENT
BEGIN:VEVENT
DTSTART;TZID=UTC:20230317T170000
DTEND;TZID=UTC:20230317T180000
DTSTAMP:20260421T034231
CREATED:20230316T161802Z
LAST-MODIFIED:20230316T161817Z
UID:2610-1679072400-1679076000@setmanasanta.cat
SUMMARY:Passió per la Setmana Santa
DESCRIPTION:Conferència i presentació del llibre Passió per la Setmana Santa de Fra Valentí Serra de Manresa
URL:https://setmanasanta.cat/esdeveniment/passio-per-la-setmana-santa/
LOCATION:Can Comamala\, Mossèn Jacint Verdaguer\, 113\, Sant Vicenç dels Horts\, Espanya\, 08620\, Espanya
END:VEVENT
BEGIN:VEVENT
DTSTART;TZID=UTC:20220412T210000
DTEND;TZID=UTC:20220415T210000
DTSTAMP:20260421T034231
CREATED:20220406T210135Z
LAST-MODIFIED:20220406T210208Z
UID:2360-1649797200-1650056400@setmanasanta.cat
SUMMARY:Setmana Santa 2022
DESCRIPTION:Enguany retornem amb una nova edició de la Setmana Santa a Sant Vicenç dels Horts. Torna una petita joia de la cultura popular amb més de 400 anys d’història. \n\n\n\nUs convidem a assistir als esdeveniments programats.  \n\n\n\nPots consultar el programa aquí
URL:https://setmanasanta.cat/esdeveniment/setmana-santa-2022/
ATTACH;FMTTYPE=image/png:https://setmanasanta.cat/wp-content/uploads/CartellSetmanaSanta-2022.png
END:VEVENT
BEGIN:VEVENT
DTSTART;TZID=Europe/Paris:20210329T180000
DTEND;TZID=Europe/Paris:20210409T200000
DTSTAMP:20260421T034231
CREATED:20210305T165319Z
LAST-MODIFIED:20210308T103559Z
UID:2246-1617040800-1617998400@setmanasanta.cat
SUMMARY:Exposició de Setmana Santa 2021
DESCRIPTION:Enguany\, degut a les restriccions i la situació actual\, des del Cos de Portants celebrarem la Setmana Santa d’una altra manera però amb el mateix esperit. \n\n\n\nUs convidem a assistir a l’exposició que hem preparat amb els passos i objectes protagonistes de cada any. L’entrada és gratuïta. \n\n\n\n \n\n\n\nInauguració: 29 de març a les 18h \n\n\n\nDel 30 de març a l’1 d’abril: 10 a 13h i 17 a 20h. \n\n\n\n2 d’abril: 10 a 21h \n\n\n\n3\, 4 i 5 d’abril: 11 a 13h i 17 a 20h \n\n\n\n6 al 9 d’abril: 10 a 13h i 15 a 17h (escoles)\, 17 a 20h (públic)
URL:https://setmanasanta.cat/esdeveniment/exposicio-de-setmana-santa-2021/
LOCATION:Pista Poliesportiva Francesc Macià\, Sant Vicenç dels Horts\, Carrer de Sant Joan Bosco\, Sant Vicenç dels Horts\, 08620\, Espanya
CATEGORIES:Esdeveniment
END:VEVENT
END:VCALENDAR